BEGIN:VCALENDAR
VERSION:2.0
PRODID:-//Childhood Australia - ECPv4.4.0.1//NONSGML v1.0//EN
CALSCALE:GREGORIAN
METHOD:PUBLISH
X-WR-CALNAME:Childhood Australia
X-ORIGINAL-URL:https://childhoodaustralia.com.au
X-WR-CALDESC:Events for Childhood Australia
BEGIN:VEVENT
DTSTART;TZID=UTC+10:20180219T080000
DTEND;TZID=UTC+10:20180219T170000
DTSTAMP:20190301T105247
CREATED:20170731T050721Z
LAST-MODIFIED:20171103T003617Z
UID:4171-1519027200-1519059600@childhoodaustralia.com.au
SUMMARY:BRISBANE Dynamight Kids and Wild Things Open Workshop
DESCRIPTION:Dynamight Kids and Wild Things is a fun-filled\, energetic program of jungle fitness\, games and activities that teaches safety and self-defence so kids are ready for anything. It is a holistic program that helps kids to grow up stronger\, healthier and safer.\n\nWe can train YOUR team to deliver the Dynamight Kids and Wild Things program\, providing you with educational and commercial advantages for your centre and vital professional development for your staff.\nWhy should my centre book now?\n\n1.  Save\, save\, save!\nWe understand that justifying expenditure can be a challenge. For a limited time only\, we are waiving all licence fees – that’s an incredible saving of $2500 (excluding GST) on top of the training fee discounts plus you’ll receive a full set of teaching resources for free!\n\n2.  Guaranteed staff training\n\nWe recognise that the reality of a high staff turnover can sometimes discourage opportunities for professional development. If a staff member\, who has undertaken the training\, leaves within the first 12 months after completion\, we will train your replacement staff member at no extra cost!\n\n3.  Increased retention and occupancy rates\n\nOur programs really do put centres into a league of their own. There is significant prestige attached to centres who are Dynamight Kids and Wild Things centres. By implementing the program today\, your centre could get the boost it needs to stand out from the crowd and be the best in its field.\n\n4. Increased parent involvement\n\nParents love our programs and love getting involved. Parents have the opportunity to purchase additional learning resources\, such as story books\, CDs and flashcards so that the learning fun can continue at home.
URL:https://childhoodaustralia.com.au/event/dynamight-kids-brisbane/
LOCATION:Brisbane\, Queensland\, 4000\, Australia
GEO:-27.4709331;153.0235024
CATEGORIES:Trainings
ATTACH;FMTTYPE=image/jpeg:https://childhoodaustralia.com.au/wp-content/uploads/2013/12/WT-Haim-throwing-ball1.jpg
ORGANIZER;CN="Childhood%20Australia":MAILTO:info@childhoodaustralia.com.au
END:VEVENT
END:VCALENDAR